  BEGIN:VCALENDAR
VERSION:2.0
PRODID:-//hacksw/handcal//NONSGML v1.0//EN
CALSCALE:GREGORIAN
BEGIN:VEVENT
DESCRIPTION:Pinksterfeest 316 in Wijnjewoude tijdens Pinksterweekend van vrijdag 6 tm maandag 9 juni
DTSTART:20250606T170000Z
SUMMARY:Pinksterfeest316 Wijnjewoude
LOCATION:Wijnjewoude
URL;VALUE=URI:https://www.pinksterfeest316.nl
DTEND:20250609T110000Z
DTSTAMP:20260424T181312Z
UID:69eb9698388e6
END:VEVENT
END:VCALENDAR
