  BEGIN:VCALENDAR
VERSION:2.0
PRODID:-//hacksw/handcal//NONSGML v1.0//EN
CALSCALE:GREGORIAN
BEGIN:VEVENT
DESCRIPTION:Online inspiratie-meeting voor ouders van een doof of slechthorende kind over opvoedingsvragen
DTSTART:20250410T180000Z
SUMMARY:Ouders met een doof of slechthorend kind
LOCATION:Online
URL;VALUE=URI:https://www.opwegmetdeander.nl/activiteiten/voor-doven-en-slechthorenden
DTEND:20250410T193000Z
DTSTAMP:20260424T211308Z
UID:69ebc0c439de7
END:VEVENT
END:VCALENDAR
